BEGIN:VCALENDAR
VERSION:2.0
PRODID:-//Tukios.com/
BEGIN:VEVENT
UID:bc5e3301-2172-45ca-811e-f0e5d8df68ea@www.santeiufuneralhome.com
DTSTAMP:20260425T183027Z
DTSTART:20260429T190000Z
DTEND:20260429T230000Z
SUMMARY:Visitation
DESCRIPTION:
URL:https://www.santeiufuneralhome.com/obituaries/genevieve-ostrowski
LOCATION: 1139 Inkster Road  Garden City MI 48135
GEO:42.319734;-83.3120019
END:VEVENT
END:VCALENDAR