BEGIN:VCALENDAR
VERSION:2.0
PRODID:-//Tukios.com/
BEGIN:VEVENT
UID:267436de-231f-4918-b736-c4db4a5104d4@www.santeiufuneralhome.com
DTSTAMP:20260425T183552Z
DTSTART:20260430T133000Z
DTEND:20260430T140000Z
SUMMARY:Funeral Service - In State
DESCRIPTION:
URL:https://www.santeiufuneralhome.com/obituaries/genevieve-ostrowski
LOCATION:Church of the Divine Child 1055 Silvery Lane  Dearborn MI 48128
GEO:42.3199388;-83.2827613
END:VEVENT
END:VCALENDAR