BEGIN:VCALENDAR
VERSION:2.0
PRODID:-//Tukios.com/
BEGIN:VEVENT
UID:41b8e4ae-797c-43f8-9422-7ec90af321fe@www.santeiufuneralhome.com
DTSTAMP:20260425T183033Z
DTSTART:20260430T140000Z
DTEND:20260430T150000Z
SUMMARY:Funeral Service
DESCRIPTION:
URL:https://www.santeiufuneralhome.com/obituaries/genevieve-ostrowski
LOCATION: 1055 North Silvery Lane  Dearborn MI 48128
GEO:42.3198716;-83.2827929
END:VEVENT
END:VCALENDAR