BEGIN:VCALENDAR
VERSION:2.0
PRODID:-//Tukios.com/
BEGIN:VEVENT
UID:cd8c7b41-d31e-447a-a0b8-a370e781afb2@www.santeiufuneralhome.com
DTSTAMP:20260423T040103Z
DTSTART:20260429T170000Z
DTEND:20260430T000000Z
SUMMARY:Visitation
DESCRIPTION:
URL:https://www.santeiufuneralhome.com/obituaries/jennifer-kirn
LOCATION:John N Santeiu & Son Funeral Home 1139 Inkster Rd  Garden City 
	MI 48135
GEO:42.319734;-83.3120019
END:VEVENT
END:VCALENDAR