BEGIN:VCALENDAR
VERSION:2.0
PRODID:-//Tukios.com/
BEGIN:VEVENT
UID:4eb304f1-9344-4840-b689-a7a40c205be3@www.santeiufuneralhome.com
DTSTAMP:20260423T040239Z
DTSTART:20260430T200000Z
DTEND:20260430T210000Z
SUMMARY:Funeral Service
DESCRIPTION:
URL:https://www.santeiufuneralhome.com/obituaries/jennifer-kirn
LOCATION:John N Santeiu & Son Funeral Home 1139 Inkster Rd  Garden City 
	MI 48135
GEO:42.319734;-83.3120019
END:VEVENT
END:VCALENDAR