BEGIN:VCALENDAR
VERSION:2.0
PRODID:-//Tukios.com/
BEGIN:VEVENT
UID:54da33d3-da7a-45cc-a243-9dbb2fbfcc96@www.santeiufuneralhome.com
DTSTAMP:20260423T035829Z
DTSTART:20260430T190000Z
DTEND:20260430T200000Z
SUMMARY:Visitation
DESCRIPTION:
URL:https://www.santeiufuneralhome.com/obituaries/jennifer-kirn
LOCATION:John N Santeiu & Son Funeral Home 1139 Inkster Rd  Garden City 
	MI 48135
GEO:42.319734;-83.3120019
END:VEVENT
END:VCALENDAR