BEGIN:VCALENDAR
VERSION:2.0
PRODID:-//Tukios.com/
BEGIN:VEVENT
UID:0d677b84-7fd7-4825-96f3-67dfb211845c@www.santeiufuneralhome.com
DTSTAMP:20260424T190358Z
DTSTART:20260523T180000Z
DTEND:20260524T000000Z
SUMMARY:Memorial Visitation
DESCRIPTION:
URL:https://www.santeiufuneralhome.com/obituaries/martha-roosa
LOCATION: 1139 Inkster Road  Garden City MI 48135
GEO:42.319734;-83.3120019
END:VEVENT
END:VCALENDAR