BEGIN:VCALENDAR
VERSION:2.0
PRODID:-//Tukios.com/
BEGIN:VEVENT
UID:15cece78-c371-4c9f-b898-c0fdcaa07280@www.santeiufuneralhome.com
DTSTAMP:20260424T190306Z
DTSTART:20260523T230000Z
DTEND:20260524T000000Z
SUMMARY:Memorial Service
DESCRIPTION:
URL:https://www.santeiufuneralhome.com/obituaries/martha-roosa
LOCATION: 1139 Inkster Road  Garden City MI 48135
GEO:42.319734;-83.3120019
END:VEVENT
END:VCALENDAR