BEGIN:VCALENDAR
VERSION:2.0
PRODID:-//Tukios.com/
BEGIN:VEVENT
UID:35078364-fd6c-44fd-b66f-b31622067e62@www.santeiufuneralhome.com
DTSTAMP:20260422T193234Z
DTSTART:20260425T130000Z
DTEND:20260425T153000Z
SUMMARY:Visitation
DESCRIPTION:
URL:https://www.santeiufuneralhome.com/obituaries/mary-brooks
LOCATION: 1139 N. Inkster Road  Garden City MI 48135
GEO:42.319734;-83.3120019
END:VEVENT
END:VCALENDAR