BEGIN:VCALENDAR
VERSION:2.0
PRODID:-//Tukios.com/
BEGIN:VEVENT
UID:f0f39ded-c662-48cd-8451-7d8b2daaf35b@www.santeiufuneralhome.com
DTSTAMP:20260422T193259Z
DTSTART:20260425T153000Z
DTEND:20260425T163000Z
SUMMARY:Funeral Service
DESCRIPTION:
URL:https://www.santeiufuneralhome.com/obituaries/mary-brooks
LOCATION: 1139 N. Inkster Road  Garden City MI 48135
GEO:42.319734;-83.3120019
END:VEVENT
END:VCALENDAR