BEGIN:VCALENDAR
VERSION:2.0
PRODID:-//Tukios.com/
BEGIN:VEVENT
UID:cf535b52-fc45-4550-a646-8b1fbdb954fa@www.santeiufuneralhome.com
DTSTAMP:20260420T161545Z
DTSTART:20260420T210000Z
DTEND:20260420T233000Z
SUMMARY:Visitation
DESCRIPTION:
URL:https://www.santeiufuneralhome.com/obituaries/violia-golich
LOCATION: 1139 Inkster Road  Garden City MI 48135
GEO:42.319734;-83.3120019
END:VEVENT
END:VCALENDAR