BEGIN:VCALENDAR
VERSION:2.0
PRODID:-//Tukios.com/
BEGIN:VEVENT
UID:f44b89ff-a618-46f9-a153-53c5ddc27729@www.santeiufuneralhome.com
DTSTAMP:20260420T161700Z
DTSTART:20260420T233000Z
DTEND:20260421T000000Z
SUMMARY:Funeral Service
DESCRIPTION:
URL:https://www.santeiufuneralhome.com/obituaries/violia-golich
LOCATION: 1139 Inkster Road  Garden City MI 48135
GEO:42.319734;-83.3120019
END:VEVENT
END:VCALENDAR